View In:
ArcGIS JavaScript
ArcGIS Online Map Viewer
ArcGIS Earth
ArcGIS Pro
Service Description: Планъ города ЧЕРКАССЪ Кіевской губернии и его окрестностей составленъ въ 1893 году.
Составил землемер Черкасской Гор.Управы Эдм.Ивановский.
Дозволено цензурою. Киев 31 октября 1896г.
Map Name: Cherkasy_1893_WGS841
Legend
All Layers and Tables
Dynamic Legend
Dynamic All Layers
Layers:
Description: Планъ города ЧЕРКАССЪ Кіевской губернии и его окрестностей составленъ въ 1893 году.Составил землемер Черкасской Гор.Управы Эдм.Ивановский.Дозволено цензурою. Киев 31 октября 1896г.
Service Item Id: 63981d897c0541cf83becab8836fcc45
Copyright Text: Землемер Черкасской городской управы Эдм. Ивановский
Spatial Reference:
102100
(3857)
Single Fused Map Cache: true
Tile Info:
- Height: 256
- Width: 256
- DPI: 96
-
Levels of Detail: 24
-
Level ID: 1
[ Start Tile, End Tile ]
- Resolution: 78271.5169639999
- Scale: 2.95828763795777E8
-
Level ID: 2
[ Start Tile, End Tile ]
- Resolution: 39135.7584820001
- Scale: 1.47914381897889E8
-
Level ID: 3
[ Start Tile, End Tile ]
- Resolution: 19567.8792409999
- Scale: 7.3957190948944E7
-
Level ID: 4
[ Start Tile, End Tile ]
- Resolution: 9783.93962049996
- Scale: 3.6978595474472E7
-
Level ID: 5
[ Start Tile, End Tile ]
- Resolution: 4891.96981024998
- Scale: 1.8489297737236E7
- Format: Mixed
- Compression Quality: 75.0
- Origin: X: -2.0037508342787E7
Y: 2.0037508342787E7
- Spatial Reference: 102100
(3857)
Storage Info:
- Storage Format: esriMapCacheStorageModeCompactV2
- Packet Size: 128
Initial Extent:
XMin: 3570302.2375471108
YMin: 6348050.407345646
XMax: 3574362.954674868
YMax: 6350866.634106602
Spatial Reference: 102100
(3857)
Full Extent:
XMin: 3562826.2205739985
YMin: 6340355.253928193
XMax: 3581838.97164798
YMax: 6358561.787524056
Spatial Reference: 102100
(3857)
Units: esriMeters
Supported Image Format Types: PNG32,PNG24,PNG,JPG,DIB,TIFF,EMF,PS,PDF,GIF,SVG,SVGZ,BMP
Document Info:
Title: Cherkasy_1893_WGS841
Author:
Comments:
Subject:
Category:
Keywords: черкаси,план,1893,київська губернія,історія
AntialiasingMode: Fast
TextAntialiasingMode: Force
Supports Dynamic Layers: true
MaxRecordCount: 2000
MaxImageHeight: 4096
MaxImageWidth: 4096
Supported Query Formats: JSON, geoJSON, PBF
Supports Query Data Elements: true
Min Scale: 72223.819286
Max Scale: 9027.977411
Min LOD: 13
Max LOD: 16
Supports Datum Transformation: true
Child Resources:
Info
Dynamic Layer
Supported Operations:
Export Map
Identify
QueryLegends
QueryDomains
Find
Return Updates