View In:
ArcGIS JavaScript
ArcGIS Online Map Viewer
ArcGIS Earth
ArcGIS Pro
Service Description: Карта триверстовка нової редакції 23-10 Київської та Полтавської губерній по рекогносцируванню 1868 року. Ряд XXIII
Map Name: Cherkasy_1868_WGS84
Legend
All Layers and Tables
Dynamic Legend
Dynamic All Layers
Layers:
Description: Карта триверстовка нової редакції 23-10 Київської та Полтавської губерній по рекогносцируванню 1868 року. Ряд XXIII
Service Item Id: 0380684d5082429898ba5cc3f6221e78
Copyright Text:
Spatial Reference:
102100
(3857)
Single Fused Map Cache: true
Tile Info:
- Height: 256
- Width: 256
- DPI: 96
-
Levels of Detail: 24
-
Level ID: 1
[ Start Tile, End Tile ]
- Resolution: 78271.5169639999
- Scale: 2.95828763795777E8
-
Level ID: 2
[ Start Tile, End Tile ]
- Resolution: 39135.7584820001
- Scale: 1.47914381897889E8
-
Level ID: 3
[ Start Tile, End Tile ]
- Resolution: 19567.8792409999
- Scale: 7.3957190948944E7
-
Level ID: 4
[ Start Tile, End Tile ]
- Resolution: 9783.93962049996
- Scale: 3.6978595474472E7
-
Level ID: 5
[ Start Tile, End Tile ]
- Resolution: 4891.96981024998
- Scale: 1.8489297737236E7
- Format: Mixed
- Compression Quality: 75.0
- Origin: X: -2.0037508342787E7
Y: 2.0037508342787E7
- Spatial Reference: 102100
(3857)
Storage Info:
- Storage Format: esriMapCacheStorageModeCompactV2
- Packet Size: 128
Initial Extent:
XMin: 3561593.5867665103
YMin: 6344670.823401755
XMax: 3576690.2876123963
YMax: 6354830.075854551
Spatial Reference: 102100
(3857)
Full Extent:
XMin: 3482375.2278056014
YMin: 6325347.648497358
XMax: 3607848.6993726916
YMax: 6421524.845846227
Spatial Reference: 102100
(3857)
Units: esriMeters
Supported Image Format Types: PNG32,PNG24,PNG,JPG,DIB,TIFF,EMF,PS,PDF,GIF,SVG,SVGZ,BMP
Document Info:
Title: Cherkasy_1868_WGS84
Author:
Comments:
Subject:
Category:
Keywords: черкаси,1868
AntialiasingMode: Fast
TextAntialiasingMode: Force
Supports Dynamic Layers: true
MaxRecordCount: 2000
MaxImageHeight: 4096
MaxImageWidth: 4096
Supported Query Formats: JSON, geoJSON, PBF
Supports Query Data Elements: true
Min Scale: 72223.819286
Max Scale: 18055.954822
Min LOD: 13
Max LOD: 15
Supports Datum Transformation: true
Child Resources:
Info
Dynamic Layer
Supported Operations:
Export Map
Identify
QueryLegends
QueryDomains
Find
Return Updates