View In:
ArcGIS JavaScript
ArcGIS Online Map Viewer
ArcGIS Earth
ArcGIS Pro
Service Description: Ортофотоплан міста Черкаси за матеріалами аерофотознімань станом на квітень 2015 року.
Map Name: Orthophotoplan_2015
Legend
All Layers and Tables
Layers:
Description: Ортофотоплан міста Черкаси за матеріалами аерофотознімань станом на квітень 2015 року.
Service Item Id: 356b5c62545f492db6abce12411f4324
Copyright Text: ТОВ "Картографія+"
Spatial Reference:
102100
(3857)
Single Fused Map Cache: true
Tile Info:
- Height: 256
- Width: 256
- DPI: 96
-
Levels of Detail: 24
-
Level ID: 1
[ Start Tile, End Tile ]
- Resolution: 78271.5169639999
- Scale: 2.95828763795777E8
-
Level ID: 2
[ Start Tile, End Tile ]
- Resolution: 39135.7584820001
- Scale: 1.47914381897889E8
-
Level ID: 3
[ Start Tile, End Tile ]
- Resolution: 19567.8792409999
- Scale: 7.3957190948944E7
-
Level ID: 4
[ Start Tile, End Tile ]
- Resolution: 9783.93962049996
- Scale: 3.6978595474472E7
-
Level ID: 5
[ Start Tile, End Tile ]
- Resolution: 4891.96981024998
- Scale: 1.8489297737236E7
- Format: Mixed
- Compression Quality: 75.0
- Origin: X: -2.0037508342787E7
Y: 2.0037508342787E7
- Spatial Reference: 102100
(3857)
Storage Info:
- Storage Format: esriMapCacheStorageModeCompactV2
- Packet Size: 128
Initial Extent:
XMin: 3568882.730807604
YMin: 6349720.77001608
XMax: 3569920.6023324304
YMax: 6350434.182280172
Spatial Reference: 102100
(3857)
Full Extent:
XMin: 3554783.3326641973
YMin: 6335376.738810794
XMax: 3580208.038771428
YMax: 6360875.486863411
Spatial Reference: 102100
(3857)
Units: esriMeters
Supported Image Format Types: PNG32,PNG24,PNG,JPG,DIB,TIFF,EMF,PS,PDF,GIF,SVG,SVGZ,BMP
Document Info:
Title: Ортофотоплан (2015 р.)
Author:
Comments: Ортофотоплан міста Черкаси за матеріалами аерофотознімань станом на квітень 2015 року.
Subject: Ортофотоплан міста Черкаси
Category:
Keywords: черкаси,ортофотоплан
AntialiasingMode: Normal
TextAntialiasingMode: Force
Supports Dynamic Layers: false
Resampling: false
MaxRecordCount: 1000
MaxImageHeight: 4096
MaxImageWidth: 4096
Supported Query Formats: JSON, geoJSON, PBF
Supports Query Data Elements: true
Min Scale: 72223.819286
Max Scale: 282.124294
Min LOD: 13
Max LOD: 21
Supports Datum Transformation: true
Child Resources:
Info
Supported Operations:
Export Map
Identify
QueryLegends
QueryDomains
Find
Return Updates