View In:
ArcGIS JavaScript
ArcGIS Online Map Viewer
ArcGIS Earth
ArcGIS Pro
Service Description: Ортофотоплан міста Черкаси за матеріалами аерофотознімань станом на квітень 2010 року.
Map Name: Orthophotoplan_2010
Legend
All Layers and Tables
Layers:
Description: Ортофотоплан міста Черкаси за матеріалами аерофотознімань станом на квітень 2010 року.
Service Item Id: 69262b1bdc5a4cdf91452ad0f1849b33
Copyright Text: ТОВ "АРЦ"
Spatial Reference:
102100
(3857)
Single Fused Map Cache: true
Tile Info:
- Height: 256
- Width: 256
- DPI: 96
-
Levels of Detail: 24
-
Level ID: 1
[ Start Tile, End Tile ]
- Resolution: 78271.5169639999
- Scale: 2.95828763795777E8
-
Level ID: 2
[ Start Tile, End Tile ]
- Resolution: 39135.7584820001
- Scale: 1.47914381897889E8
-
Level ID: 3
[ Start Tile, End Tile ]
- Resolution: 19567.8792409999
- Scale: 7.3957190948944E7
-
Level ID: 4
[ Start Tile, End Tile ]
- Resolution: 9783.93962049996
- Scale: 3.6978595474472E7
-
Level ID: 5
[ Start Tile, End Tile ]
- Resolution: 4891.96981024998
- Scale: 1.8489297737236E7
- Format: Mixed
- Compression Quality: 75.0
- Origin: X: -2.0037508342787E7
Y: 2.0037508342787E7
- Spatial Reference: 102100
(3857)
Storage Info:
- Storage Format: esriMapCacheStorageModeCompactV2
- Packet Size: 128
Initial Extent:
XMin: 3568399.018733856
YMin: 6349368.5249387575
XMax: 3570403.898288083
YMax: 6350786.591057138
Spatial Reference: 102100
(3857)
Full Extent:
XMin: 3556250.353587016
YMin: 6335384.531401653
XMax: 3581380.68304817
YMax: 6360958.077366312
Spatial Reference: 102100
(3857)
Units: esriMeters
Supported Image Format Types: PNG32,PNG24,PNG,JPG,DIB,TIFF,EMF,PS,PDF,GIF,SVG,SVGZ,BMP
Document Info:
Title: Ортофотоплан (2010 р.)
Author:
Comments: Ортофотоплан міста Черкаси за матеріалами аерофотознімань станом на квітень 2010 року.
Subject: Ортофотоплан міста Черкаси
Category:
Keywords: черкаси,ортофотоплан
AntialiasingMode: Best
TextAntialiasingMode: Force
Supports Dynamic Layers: false
MaxRecordCount: 2000
MaxImageHeight: 4096
MaxImageWidth: 4096
Supported Query Formats: JSON, geoJSON, PBF
Supports Query Data Elements: true
Min Scale: 72223.819286
Max Scale: 564.248588
Min LOD: 13
Max LOD: 20
Supports Datum Transformation: true
Child Resources:
Info
Supported Operations:
Export Map
QueryLegends
QueryDomains
Find
Return Updates