{ "currentVersion": 11.3, "cimVersion": "3.3.0", "serviceDescription": "
Министерство внутренних дел. Техническо-строительный комитет.<\/span><\/p> Киевская губерния. План гор. Черкасс [Дело]. - [До 1850]. - 1 лист. - (Фонд Техническо-строительного комитета МВД. Опись № 166, Киевская губ.). -<\/span><\/p> В деле содержится план города Черкасс Киевской губернии. Масштаб: 200 сажень в 1 английском дюйме. Бумага. Тушь, карандаш, акварель .<\/span><\/p> 1. Территория (коллекция). 2. Черкассы, город (Украина) -- Планы.<\/span><\/p> ББК 63.3(28-8Кие-2Черкассы)52я64<\/span><\/p> ББК 85.118я64<\/span><\/p> Источник электронной копии: РГИА<\/span><\/p> Место хранения оригинала: РГИА. Ф. 1293. Оп. 166. Киевская губ. Д. 46. <\/span><\/p> https://www.prlib.ru/item/336130<\/span><\/p> <\/p> 1797 року, січня 31-го<\/span><\/p> ВІДОМІСТЬ, ЯКА БУЛА ПОДАНА ГЕНЕРАЛ-ПРОКУРОРОВІ РОСІЙСЬКОЇ ІМПЕРІЇ КНЯЗЮ ОЛЕКСІЮ БОРИСОВИЧУ КУРАКІНУ ПРО СТАНОВИЩЕ МІСТА ЧЕРКАСИ, КІЛЬКІСТЬ В НЬОМУ БУДІВЕЛЬ І СКЛАД НАСЕЛЕННЯ.<\/span><\/p> «Оный Город состоит по правой стороне реки Днепра, по коему судоходство производится и доставляется с вершины оного разной строевой и корабельный лес. Купечества и мещанства мало и по большой части купечество из евреев. Промыслы ж жители того города имеют разными шипотынами товарами, а некоторые упражняются в хлебопашестве. Строение оного города иррегулярное простое и городского вида не имеет. Сколько ж земли имеется за неснятием в натуре неизвестно, и особо выгонной земли; по пропорции усадебного места не вымежевано. Угодья ж по карте явствуют, что в окрестности оного леса к строению годного изобильно».<\/span><\/p> Також у відомості приводяться статистичні дані про Черкаси межі XVIII та XIX ст.:<\/span><\/p> · На той час в місті проживало понад 3 000 жителів обох статей, з яких 2/3 \u2013 міщани православного віросповідання. Також серед містян присутні: 188 \u2013 євреї, 74 \u2013 дворяни-шляхта.<\/span><\/p> · В місті не існувало ще жодної капітальної (кам\u2019яної/цегляної) будівлі, натомість було 535 дерев\u2019яних «мазаних» будинків.<\/span><\/p> · Культові споруди в місті представлені двома православними церквами (Миколаївська та Свято-Троїцька) та однією католицькою (каплиця на Замковій горі).<\/span><\/p> · На території міста розташовувалися: 3 вітряні та 17 водяних млинів, 15 кузень, 2 шинки, 1 єврейська школа.<\/span><\/p><\/div><\/div><\/div>",
"mapName": "Cherkasy_1797_WGS84",
"description": "Министерство внутренних дел. Техническо-строительный комитет.Киевская губерния. План гор. Черкасс [Дело]. - [До 1850]. - 1 лист. - (Фонд Техническо-строительного комитета МВД. Опись № 166, Киевская губ.). -В деле содержится план города Черкасс Киевской губернии. Масштаб: 200 сажень в 1 английском дюйме. Бумага. Тушь, карандаш, акварель .1. Территория (коллекция). 2. Черкассы, город (Украина) -- Планы.ББК 63.3(28-8Кие-2Черкассы)52я64ББК 85.118я64Источник электронной копии: РГИАМесто хранения оригинала: РГИА. Ф. 1293. Оп. 166. Киевская губ. Д. 46. https://www.prlib.ru/item/3361301797 року, січня 31-гоВІДОМІСТЬ, ЯКА БУЛА ПОДАНА ГЕНЕРАЛ-ПРОКУРОРОВІ РОСІЙСЬКОЇ ІМПЕРІЇ КНЯЗЮ ОЛЕКСІЮ БОРИСОВИЧУ КУРАКІНУ ПРО СТАНОВИЩЕ МІСТА ЧЕРКАСИ, КІЛЬКІСТЬ В НЬОМУ БУДІВЕЛЬ І СКЛАД НАСЕЛЕННЯ.«Оный Город состоит по правой стороне реки Днепра, по коему судоходство производится и доставляется с вершины оного разной строевой и корабельный лес. Купечества и мещанства мало и по большой части купечество из евреев. Промыслы ж жители того города имеют разными шипотынами товарами, а некоторые упражняются в хлебопашестве. Строение оного города иррегулярное простое и городского вида не имеет. Сколько ж земли имеется за неснятием в натуре неизвестно, и особо выгонной земли; по пропорции усадебного места не вымежевано. Угодья ж по карте явствуют, что в окрестности оного леса к строению годного изобильно».Також у відомості приводяться статистичні дані про Черкаси межі XVIII та XIX ст.:· На той час в місті проживало понад 3 000 жителів обох статей, з яких 2/3 \u2013 міщани православного віросповідання. Також серед містян присутні: 188 \u2013 євреї, 74 \u2013 дворяни-шляхта.· В місті не існувало ще жодної капітальної (кам\u2019яної/цегляної) будівлі, натомість було 535 дерев\u2019яних «мазаних» будинків.· Культові споруди в місті представлені двома православними церквами (Миколаївська та Свято-Троїцька) та однією католицькою (каплиця на Замковій горі).· На території міста розташовувалися: 3 вітряні та 17 водяних млинів, 15 кузень, 2 шинки, 1 єврейська школа.",
"copyrightText": "Поветовой землемер Холодиловъ",
"supportsDynamicLayers": true,
"layers": [
{
"id": 6,
"name": "Cherkasy_1797",
"parentLayerId": -1,
"defaultVisibility": true,
"subLayerIds": null,
"minScale": 0,
"maxScale": 0,
"type": "Raster Layer",
"supportsDynamicLegends": true
}
],
"tables": [],
"spatialReference": {
"wkid": 102100,
"latestWkid": 3857,
"xyTolerance": 0.001,
"zTolerance": 0.001,
"mTolerance": 0.001,
"falseX": -20037700,
"falseY": -30241100,
"xyUnits": 10000,
"falseZ": -100000,
"zUnits": 10000,
"falseM": -100000,
"mUnits": 10000
},
"singleFusedMapCache": true,
"tileInfo": {
"rows": 256,
"cols": 256,
"dpi": 96,
"format": "Mixed",
"compressionQuality": 75,
"origin": {
"x": -2.0037508342787E7,
"y": 2.0037508342787E7
},
"spatialReference": {
"wkid": 102100,
"latestWkid": 3857,
"xyTolerance": 0.001,
"zTolerance": 0.001,
"mTolerance": 0.001,
"falseX": -20037700,
"falseY": -30241100,
"xyUnits": 1.4892314192838538E8,
"falseZ": -100000,
"zUnits": 10000,
"falseM": -100000,
"mUnits": 10000
},
"lods": [
{
"level": 0,
"resolution": 156543.033928,
"scale": 5.91657527591555E8
},
{
"level": 1,
"resolution": 78271.5169639999,
"scale": 2.95828763795777E8
},
{
"level": 2,
"resolution": 39135.7584820001,
"scale": 1.47914381897889E8
},
{
"level": 3,
"resolution": 19567.8792409999,
"scale": 7.3957190948944E7
},
{
"level": 4,
"resolution": 9783.93962049996,
"scale": 3.6978595474472E7
},
{
"level": 5,
"resolution": 4891.96981024998,
"scale": 1.8489297737236E7
},
{
"level": 6,
"resolution": 2445.98490512499,
"scale": 9244648.868618
},
{
"level": 7,
"resolution": 1222.99245256249,
"scale": 4622324.434309
},
{
"level": 8,
"resolution": 611.49622628138,
"scale": 2311162.217155
},
{
"level": 9,
"resolution": 305.748113140558,
"scale": 1155581.108577
},
{
"level": 10,
"resolution": 152.874056570411,
"scale": 577790.554289
},
{
"level": 11,
"resolution": 76.4370282850732,
"scale": 288895.277144
},
{
"level": 12,
"resolution": 38.2185141425366,
"scale": 144447.638572
},
{
"level": 13,
"resolution": 19.1092570712683,
"scale": 72223.819286
},
{
"level": 14,
"resolution": 9.55462853563415,
"scale": 36111.909643
},
{
"level": 15,
"resolution": 4.77731426794937,
"scale": 18055.954822
},
{
"level": 16,
"resolution": 2.38865713397468,
"scale": 9027.977411
},
{
"level": 17,
"resolution": 1.19432856685505,
"scale": 4513.988705
},
{
"level": 18,
"resolution": 0.597164283559817,
"scale": 2256.994353
},
{
"level": 19,
"resolution": 0.298582141647617,
"scale": 1128.497176
},
{
"level": 20,
"resolution": 0.14929107082380833,
"scale": 564.248588
},
{
"level": 21,
"resolution": 0.07464553541190416,
"scale": 282.124294
},
{
"level": 22,
"resolution": 0.03732276770595208,
"scale": 141.062147
},
{
"level": 23,
"resolution": 0.01866138385297604,
"scale": 70.5310735
}
]
},
"storageInfo": {
"storageFormat": "esriMapCacheStorageModeCompactV2",
"packetSize": 128
},
"initialExtent": {
"xmin": 3569789.472937755,
"ymin": 6350562.717419974,
"xmax": 3571746.9774588305,
"ymax": 6351988.745728799,
"spatialReference": {
"wkid": 102100,
"latestWkid": 3857,
"xyTolerance": 0.001,
"zTolerance": 0.001,
"mTolerance": 0.001,
"falseX": -20037700,
"falseY": -30241100,
"xyUnits": 10000,
"falseZ": -100000,
"zUnits": 10000,
"falseM": -100000,
"mUnits": 10000
}
},
"fullExtent": {
"xmin": 3565072.792727279,
"ymin": 6343959.845946847,
"xmax": 3576463.6576693063,
"ymax": 6358591.617201925,
"spatialReference": {
"wkid": 102100,
"latestWkid": 3857,
"xyTolerance": 0.001,
"zTolerance": 0.001,
"mTolerance": 0.001,
"falseX": -20037700,
"falseY": -30241100,
"xyUnits": 10000,
"falseZ": -100000,
"zUnits": 10000,
"falseM": -100000,
"mUnits": 10000
}
},
"datesInUnknownTimezone": false,
"minScale": 72223.819286,
"maxScale": 4513.988705,
"minLOD": 13,
"maxLOD": 17,
"units": "esriMeters",
"supportedImageFormatTypes": "PNG32,PNG24,PNG,JPG,DIB,TIFF,EMF,PS,PDF,GIF,SVG,SVGZ,BMP",
"documentInfo": {
"Title": "Cherkasy_1797_WGS84",
"Author": "",
"Comments": "",
"Subject": "",
"Category": "",
"Version": "3.3.0",
"AntialiasingMode": "Best",
"TextAntialiasingMode": "Force",
"Keywords": "черкаси,київська губернія,топо,1797,план,історія"
},
"supportsQueryDomains": true,
"capabilities": "Map,Query,Data",
"supportedQueryFormats": "JSON, geoJSON, PBF",
"exportTilesAllowed": false,
"referenceScale": 4513.988705,
"datumTransformations": [
{
"geoTransforms": [
{
"wkid": 5823,
"latestWkid": 5840,
"transformForward": false,
"name": "Ukraine_2000_To_WGS_1984_2"
}
]
},
{
"geoTransforms": [
{
"wkid": 5823,
"latestWkid": 5840,
"transformForward": true,
"name": "Ukraine_2000_To_WGS_1984_2"
}
]
},
{
"geoTransforms": [
{
"wkt2": "COORDINATEOPERATION[\"NTv2_Cherkasy\",SOURCECRS[GEOGCRS[\"GCS_Ukraine_2000\",DATUM[\"D_Ukraine_2000\",ELLIPSOID[\"Krasovsky_1940\",6378245.0,298.3,LENGTHUNIT[\"Meter\",1.0]]],PRIMEM[\"Greenwich\",0.0,ANGLEUNIT[\"Degree\",0.0174532925199433]],CS[ellipsoidal,2],ANGLEUNIT[\"Degree\",0.0174532925199433]]],TARGETCRS[GEOGCRS[\"GCS_Pulkovo_1942\",DATUM[\"D_Pulkovo_1942\",ELLIPSOID[\"Krasovsky_1940\",6378245.0,298.3,LENGTHUNIT[\"Meter\",1.0]]],PRIMEM[\"Greenwich\",0.0,ANGLEUNIT[\"Degree\",0.0174532925199433]],CS[ellipsoidal,2],ANGLEUNIT[\"Degree\",0.0174532925199433]]],METHOD[\"NTv2\"],PARAMETERFILE[\"uk/NTv2_Cherkasy.gsb\"]]",
"wkt": "GEOGTRAN[\"NTv2_Cherkasy\",GEOGCS[\"GCS_Ukraine_2000\",DATUM[\"D_Ukraine_2000\",SPHEROID[\"Krasovsky_1940\",6378245.0,298.3]],PRIMEM[\"Greenwich\",0.0],UNIT[\"Degree\",0.0174532925199433]],GEOGCS[\"GCS_Pulkovo_1942\",DATUM[\"D_Pulkovo_1942\",SPHEROID[\"Krasovsky_1940\",6378245.0,298.3]],PRIMEM[\"Greenwich\",0.0],UNIT[\"Degree\",0.0174532925199433]],METHOD[\"NTv2\"],PARAMETER[\"Dataset_uk/NTv2_Cherkasy.gsb\",0.0]]",
"transformForward": false,
"name": "NTv2_Cherkasy"
}
]
},
{
"geoTransforms": [
{
"wkt2": "COORDINATEOPERATION[\"NTv2_Cherkasy\",SOURCECRS[GEOGCRS[\"GCS_Ukraine_2000\",DATUM[\"D_Ukraine_2000\",ELLIPSOID[\"Krasovsky_1940\",6378245.0,298.3,LENGTHUNIT[\"Meter\",1.0]]],PRIMEM[\"Greenwich\",0.0,ANGLEUNIT[\"Degree\",0.0174532925199433]],CS[ellipsoidal,2],ANGLEUNIT[\"Degree\",0.0174532925199433]]],TARGETCRS[GEOGCRS[\"GCS_Pulkovo_1942\",DATUM[\"D_Pulkovo_1942\",ELLIPSOID[\"Krasovsky_1940\",6378245.0,298.3,LENGTHUNIT[\"Meter\",1.0]]],PRIMEM[\"Greenwich\",0.0,ANGLEUNIT[\"Degree\",0.0174532925199433]],CS[ellipsoidal,2],ANGLEUNIT[\"Degree\",0.0174532925199433]]],METHOD[\"NTv2\"],PARAMETERFILE[\"uk/NTv2_Cherkasy.gsb\"]]",
"wkt": "GEOGTRAN[\"NTv2_Cherkasy\",GEOGCS[\"GCS_Ukraine_2000\",DATUM[\"D_Ukraine_2000\",SPHEROID[\"Krasovsky_1940\",6378245.0,298.3]],PRIMEM[\"Greenwich\",0.0],UNIT[\"Degree\",0.0174532925199433]],GEOGCS[\"GCS_Pulkovo_1942\",DATUM[\"D_Pulkovo_1942\",SPHEROID[\"Krasovsky_1940\",6378245.0,298.3]],PRIMEM[\"Greenwich\",0.0],UNIT[\"Degree\",0.0174532925199433]],METHOD[\"NTv2\"],PARAMETER[\"Dataset_uk/NTv2_Cherkasy.gsb\",0.0]]",
"transformForward": true,
"name": "NTv2_Cherkasy"
}
]
},
{
"geoTransforms": [
{
"wkt2": "COORDINATEOPERATION[\"NTv2_Cherkasy\",SOURCECRS[GEOGCRS[\"GCS_Ukraine_2000\",DATUM[\"D_Ukraine_2000\",ELLIPSOID[\"Krasovsky_1940\",6378245.0,298.3,LENGTHUNIT[\"Meter\",1.0]]],PRIMEM[\"Greenwich\",0.0,ANGLEUNIT[\"Degree\",0.0174532925199433]],CS[ellipsoidal,2],ANGLEUNIT[\"Degree\",0.0174532925199433]]],TARGETCRS[GEOGCRS[\"GCS_Pulkovo_1942\",DATUM[\"D_Pulkovo_1942\",ELLIPSOID[\"Krasovsky_1940\",6378245.0,298.3,LENGTHUNIT[\"Meter\",1.0]]],PRIMEM[\"Greenwich\",0.0,ANGLEUNIT[\"Degree\",0.0174532925199433]],CS[ellipsoidal,2],ANGLEUNIT[\"Degree\",0.0174532925199433]]],METHOD[\"NTv2\"],PARAMETERFILE[\"uk/NTv2_Cherkasy.gsb\"]]",
"wkt": "GEOGTRAN[\"NTv2_Cherkasy\",GEOGCS[\"GCS_Ukraine_2000\",DATUM[\"D_Ukraine_2000\",SPHEROID[\"Krasovsky_1940\",6378245.0,298.3]],PRIMEM[\"Greenwich\",0.0],UNIT[\"Degree\",0.0174532925199433]],GEOGCS[\"GCS_Pulkovo_1942\",DATUM[\"D_Pulkovo_1942\",SPHEROID[\"Krasovsky_1940\",6378245.0,298.3]],PRIMEM[\"Greenwich\",0.0],UNIT[\"Degree\",0.0174532925199433]],METHOD[\"NTv2\"],PARAMETER[\"Dataset_uk/NTv2_Cherkasy.gsb\",0.0]]",
"transformForward": false,
"name": "NTv2_Cherkasy"
},
{
"wkid": 5823,
"latestWkid": 5840,
"transformForward": true,
"name": "Ukraine_2000_To_WGS_1984_2"
}
]
},
{
"geoTransforms": [
{
"wkid": 5823,
"latestWkid": 5840,
"transformForward": false,
"name": "Ukraine_2000_To_WGS_1984_2"
},
{
"wkt2": "COORDINATEOPERATION[\"NTv2_Cherkasy\",SOURCECRS[GEOGCRS[\"GCS_Ukraine_2000\",DATUM[\"D_Ukraine_2000\",ELLIPSOID[\"Krasovsky_1940\",6378245.0,298.3,LENGTHUNIT[\"Meter\",1.0]]],PRIMEM[\"Greenwich\",0.0,ANGLEUNIT[\"Degree\",0.0174532925199433]],CS[ellipsoidal,2],ANGLEUNIT[\"Degree\",0.0174532925199433]]],TARGETCRS[GEOGCRS[\"GCS_Pulkovo_1942\",DATUM[\"D_Pulkovo_1942\",ELLIPSOID[\"Krasovsky_1940\",6378245.0,298.3,LENGTHUNIT[\"Meter\",1.0]]],PRIMEM[\"Greenwich\",0.0,ANGLEUNIT[\"Degree\",0.0174532925199433]],CS[ellipsoidal,2],ANGLEUNIT[\"Degree\",0.0174532925199433]]],METHOD[\"NTv2\"],PARAMETERFILE[\"uk/NTv2_Cherkasy.gsb\"]]",
"wkt": "GEOGTRAN[\"NTv2_Cherkasy\",GEOGCS[\"GCS_Ukraine_2000\",DATUM[\"D_Ukraine_2000\",SPHEROID[\"Krasovsky_1940\",6378245.0,298.3]],PRIMEM[\"Greenwich\",0.0],UNIT[\"Degree\",0.0174532925199433]],GEOGCS[\"GCS_Pulkovo_1942\",DATUM[\"D_Pulkovo_1942\",SPHEROID[\"Krasovsky_1940\",6378245.0,298.3]],PRIMEM[\"Greenwich\",0.0],UNIT[\"Degree\",0.0174532925199433]],METHOD[\"NTv2\"],PARAMETER[\"Dataset_uk/NTv2_Cherkasy.gsb\",0.0]]",
"transformForward": true,
"name": "NTv2_Cherkasy"
}
]
}
],
"supportsDatumTransformation": true,
"floorAwareMapProperties": {
"defaultFloorFilterSettings": {"isEnabled": false}
},
"archivingInfo": {"supportsHistoricMoment": false},
"supportsClipping": true,
"supportsSpatialFilter": true,
"supportsTimeRelation": true,
"supportsQueryDataElements": true,
"mapUnits": {"uwkid": 9001},
"maxRecordCount": 2000,
"maxImageHeight": 4096,
"maxImageWidth": 4096,
"supportedExtensions": "",
"serviceItemId": "ba67ca8b30514e6c998a1ebe9bd79a63"
}